BEGIN:VCALENDAR
VERSION:2.0
PRODID:-//Plone.org//NONSGML plone.app.event//EN
X-WR-TIMEZONE:Europe/Brussels
BEGIN:VEVENT
SUMMARY:DÉESSES ET HIERCHEUSES
DTSTART;VALUE=DATE:20240426
DTEND;VALUE=DATE:20240930
DTSTAMP:20260420T083211Z
UID:ece10f8c0c8543bbb6fcdf1b140f1edb@mmddbdl.be
CREATED:20240320T081457Z
LAST-MODIFIED:20241010T111549Z
URL:http://mmddbdl.be/fr/activites/expositions/passees/deesses-et-hiercheu
 ses
END:VEVENT
END:VCALENDAR
