BEGIN:VCALENDAR
VERSION:2.0
PRODID:-//Plone.org//NONSGML plone.app.event//EN
X-WR-TIMEZONE:Europe/Brussels
BEGIN:VEVENT
SUMMARY:TROIS REGARDS SUR LE JAZZ
DTSTART;VALUE=DATE:20220604
DTEND;VALUE=DATE:20220904
DTSTAMP:20260424T053154Z
UID:9f435fd1d43544d88a1ed470bd4b06c5@mmddbdl.be
CREATED:20220401T165208Z
LAST-MODIFIED:20230228T144719Z
URL:http://mmddbdl.be/fr/activites/expositions/passees/trois-regards-sur-l
 e-jazz
END:VEVENT
END:VCALENDAR
