BEGIN:VCALENDAR
VERSION:2.0
PRODID:-//Plone.org//NONSGML plone.app.event//EN
X-WR-TIMEZONE:Europe/Brussels
BEGIN:VEVENT
SUMMARY:ATELIERS ANIMA
DTSTART;VALUE=DATE:20250412
DTEND;VALUE=DATE:20250413
DTSTAMP:20260420T093616Z
UID:fc38af69a4a94988a3479f39364a38c9@mmddbdl.be
CREATED:20250314T090818Z
LAST-MODIFIED:20250515T103545Z
URL:http://mmddbdl.be/fr/activites/stages-et-ateliers/saison-2025/ateliers
 -anima-2
END:VEVENT
END:VCALENDAR
